BEGIN:VCALENDAR
VERSION:2.0
PRODID:icalendar-ruby
CALSCALE:GREGORIAN
METHOD:PUBLISH
BEGIN:VEVENT
DTSTAMP:20260420T111209Z
UID:51-378262@lakemortoncommunitychurch.org
DTSTART:20260927T130000Z
DTEND:20260927T140000Z
CLASS:PUBLIC
CREATED:20260420T025427
DESCRIPTION:
LAST-MODIFIED:20260420T025427
LOCATION:
SUMMARY:Sunday School
URL;VALUE=URI:https://lakemortoncommunitychurch.org/events/sunday-school/20
 26-09-27
END:VEVENT
END:VCALENDAR
