BEGIN:VCALENDAR
VERSION:2.0
PRODID:icalendar-ruby
CALSCALE:GREGORIAN
METHOD:PUBLISH
BEGIN:VEVENT
DTSTAMP:20260420T124345Z
UID:51-378523@lakemortoncommunitychurch.org
DTSTART:20261004T130000Z
DTEND:20261004T140000Z
CLASS:PUBLIC
CREATED:20260420T074510
DESCRIPTION:
LAST-MODIFIED:20260420T074510
LOCATION:
SUMMARY:Sunday School
URL;VALUE=URI:https://lakemortoncommunitychurch.org/events/sunday-school/20
 26-10-04
END:VEVENT
END:VCALENDAR
