BEGIN:VCALENDAR
VERSION:2.0
PRODID:icalendar-ruby
CALSCALE:GREGORIAN
METHOD:PUBLISH
BEGIN:VEVENT
DTSTAMP:20260420T154014Z
UID:51-378785@lakemortoncommunitychurch.org
DTSTART:20261018T130000Z
DTEND:20261018T140000Z
CLASS:PUBLIC
CREATED:20260420T102035
DESCRIPTION:
LAST-MODIFIED:20260420T102035
LOCATION:
SUMMARY:Sunday School
URL;VALUE=URI:https://lakemortoncommunitychurch.org/events/sunday-school/20
 26-10-18
END:VEVENT
END:VCALENDAR
