BEGIN:VCALENDAR
VERSION:2.0
PRODID:icalendar-ruby
CALSCALE:GREGORIAN
METHOD:PUBLISH
BEGIN:VEVENT
DTSTAMP:20260420T172054Z
UID:51-379046@lakemortoncommunitychurch.org
DTSTART:20261025T130000Z
DTEND:20261025T140000Z
CLASS:PUBLIC
CREATED:20260420T125431
DESCRIPTION:
LAST-MODIFIED:20260420T125431
LOCATION:
SUMMARY:Sunday School
URL;VALUE=URI:https://lakemortoncommunitychurch.org/events/sunday-school/20
 26-10-25
END:VEVENT
END:VCALENDAR
