BEGIN:VCALENDAR
VERSION:2.0
PRODID:icalendar-ruby
CALSCALE:GREGORIAN
METHOD:PUBLISH
BEGIN:VEVENT
DTSTAMP:20260420T185404Z
UID:51-379047@lakemortoncommunitychurch.org
DTSTART:20261101T140000Z
DTEND:20261101T150000Z
CLASS:PUBLIC
CREATED:20260420T125431
DESCRIPTION:
LAST-MODIFIED:20260420T125431
LOCATION:
SUMMARY:Sunday School
URL;VALUE=URI:https://lakemortoncommunitychurch.org/events/sunday-school/20
 26-11-01
END:VEVENT
END:VCALENDAR
