BEGIN:VCALENDAR
VERSION:2.0
PRODID:icalendar-ruby
CALSCALE:GREGORIAN
METHOD:PUBLISH
BEGIN:VEVENT
DTSTAMP:20260424T125124Z
UID:9-384706@lakemortoncommunitychurch.org
DTSTART:20261025T141500Z
DTEND:20261025T151500Z
CLASS:PUBLIC
CREATED:20260424T080020
DESCRIPTION:Our primary purpose in all we do is to glorify God and enjoy Hi
 m forever. Worship is our first calling as God’s people\, and is therefo
 re central to the life of Lake Morton Community Church.  Each Sunday\, we
  seek to worship God in Spirit and in Truth through scripture readings\, p
 rayers\, music\, preaching\, and the ordinances of baptism and the Lord’
 s supper.
LAST-MODIFIED:20260424T080020
LOCATION:
SUMMARY:Sunday Worship
URL;VALUE=URI:https://lakemortoncommunitychurch.org/events/sunday-worship--
 9/2026-10-25
END:VEVENT
END:VCALENDAR
